BEGIN:VCALENDAR
VERSION:2.0
PRODID:-//web-crossing GmbH/Events//NONSGML v1.0//EN
CALSCALE:GREGORIAN
BEGIN:VEVENT
DTEND:20260508T180000Z
UID:69e6279c46cdc
DTSTAMP:20260420T151820Z
LOCATION:Schifffsanlegestelle Pertisau
DESCRIPTION:
URL;VALUE=URI:https://www.achensee.com/de/veranstaltungen-tirol-oesterreich/details/event/idealtours-lesung-am-schiff-mit-verena-altenberger-pertisau-am-achensee/
SUMMARY:IDEALTOURS-Lesung am Schiff mit Verena Altenberger
DTSTART:20260508T160000Z
END:VEVENT
END:VCALENDAR