BEGIN:VCALENDAR
VERSION:2.0
PRODID:-//web-crossing GmbH/Events//NONSGML v1.0//EN
CALSCALE:GREGORIAN
BEGIN:VEVENT
DTEND:20260509T110000Z
UID:69e76a90470ec
DTSTAMP:20260421T141616Z
LOCATION:Dorfplatz
DESCRIPTION:
URL;VALUE=URI:https://www.achensee.com/de/veranstaltungen-tirol-oesterreich/details/event/fruehlingsmarkt-wiesing/
SUMMARY:Frühlingsmarkt
DTSTART:20260509T090000Z
END:VEVENT
END:VCALENDAR