BEGIN:VCALENDAR
VERSION:2.0
PRODID:-//web-crossing GmbH/Events//NONSGML v1.0//EN
CALSCALE:GREGORIAN
BEGIN:VEVENT
DTEND:20260516T150000Z
UID:69ec33566fba7
DTSTAMP:20260425T052158Z
LOCATION:Posthotel Alpengolf
DESCRIPTION:
URL;VALUE=URI:https://www.achensee.com/de/veranstaltungen-tirol-oesterreich/details/event/erlebnistag-am-golfplatz-achenkirch-am-achensee/
SUMMARY:Erlebnistag am Golfplatz
DTSTART:20260516T130000Z
END:VEVENT
END:VCALENDAR