BEGIN:VCALENDAR
VERSION:2.0
PRODID:-//web-crossing GmbH/Events//NONSGML v1.0//EN
CALSCALE:GREGORIAN
BEGIN:VEVENT
DTEND:20260508T163000Z
UID:69e626a342e32
DTSTAMP:20260420T151411Z
LOCATION:Seehotel Einwaller
DESCRIPTION:
URL;VALUE=URI:https://www.achensee.com/de/veranstaltungen-tirol-oesterreich/details/event/debutlesung-mit-julia-pustet-pertisau-am-achensee/
SUMMARY:Debutlesung mit Julia Pustet
DTSTART:20260508T143000Z
END:VEVENT
END:VCALENDAR