BEGIN:VCALENDAR
VERSION:2.0
PRODID:-//web-crossing GmbH/Events//NONSGML v1.0//EN
CALSCALE:GREGORIAN
BEGIN:VEVENT
DTEND:20260430T114500Z
UID:69ec3892d0caa
DTSTAMP:20260425T054418Z
LOCATION:Hochalmlifte Christlum
DESCRIPTION:
URL;VALUE=URI:https://www.achensee.com/de/veranstaltungen-tirol-oesterreich/details/event/community-wanderung-achenkirch-am-achensee/
SUMMARY:Community Wanderung
DTSTART:20260430T094500Z
END:VEVENT
END:VCALENDAR