BEGIN:VCALENDAR
VERSION:2.0
PRODID:-//web-crossing GmbH/Events//NONSGML v1.0//EN
CALSCALE:GREGORIAN
BEGIN:VEVENT
DTEND:20260718T123000Z
UID:69e5c05b1c845
DTSTAMP:20260420T075747Z
LOCATION:Talstation Rofan Seilbahn
DESCRIPTION:
URL;VALUE=URI:https://www.achensee.com/de/veranstaltungen-tirol-oesterreich/details/event/climbing-with-respect-maurach-am-achensee/
SUMMARY:Climbing with Respect
DTSTART:20260718T103000Z
END:VEVENT
END:VCALENDAR