BEGIN:VCALENDAR
VERSION:2.0
PRODID:-//web-crossing GmbH/Events//NONSGML v1.0//EN
CALSCALE:GREGORIAN
BEGIN:VEVENT
DTEND:20260529T210000Z
UID:69e76db44181f
DTSTAMP:20260421T142940Z
LOCATION:Schiffsanlegestelle
DESCRIPTION:
URL;VALUE=URI:https://www.achensee.com/de/veranstaltungen-tirol-oesterreich/details/event/buonissimo-seerundfahrt-mit-live-musik-pertisau-am-achensee/
SUMMARY:Buonissimo! Seerundfahrt mit Live-Musik
DTSTART:20260529T190000Z
END:VEVENT
END:VCALENDAR